BEGIN:VCALENDAR
VERSION:2.0
PRODID:-//SVP Stäfa //NONSGML Events //EN
CALSCALE:GREGORIAN
X-WR-CALNAME:SVP Stäfa
BEGIN:VEVENT
CREATED:20260304T094736Z
UID:1156
DTEND:20260512T220000
DTSTART:20260512T190000
DTSTAMP:20260423T151816Z
LOCATION:Sunshine Hill
DESCRIPTION:Mitgliederversammlung SVP Stäfa
SUMMARY:Mitgliederversammlung SVP Stäfa
ORGANIZER:SVP Stäfa
URL;VALUE=URI:https://www.svp-staefa.ch/termine/mitgliederversammlung-svp-staefa/
TRANSP:OPAQUE
END:VEVENT
END:VCALENDAR
