BEGIN:VCALENDAR
VERSION:2.0
PRODID:-//SVP Stäfa //NONSGML Events //EN
CALSCALE:GREGORIAN
X-WR-CALNAME:SVP Stäfa
BEGIN:VEVENT
CREATED:20260304T094736Z
UID:1155
DTEND:20260509T120000
DTSTART:20260509T090000
DTSTAMP:20260423T140554Z
LOCATION:Migros Stäfa
DESCRIPTION:Evtl. Standaktion
SUMMARY:Evtl. Standaktion
ORGANIZER:SVP Stäfa
URL;VALUE=URI:https://www.svp-staefa.ch/termine/evtl-standaktion/
TRANSP:OPAQUE
END:VEVENT
END:VCALENDAR
