BEGIN:VCALENDAR
VERSION:2.0
PRODID:-//SVP Stäfa //NONSGML Events //EN
CALSCALE:GREGORIAN
X-WR-CALNAME:SVP Stäfa
BEGIN:VEVENT
CREATED:20260304T094736Z
UID:1154
DTEND:20260509T000000
DTSTART:20260509T000000
DTSTAMP:20260423T142934Z
LOCATION:
DESCRIPTION:Kadertagung SVP ZH
SUMMARY:Kadertagung SVP ZH
ORGANIZER:SVP Zürich
URL;VALUE=URI:https://www.svp-staefa.ch/termine/kadertagung-svp-zh/
TRANSP:OPAQUE
END:VEVENT
END:VCALENDAR
